BEGIN:VCALENDAR
VERSION:2.0
PRODID:-//TYPO3/NONSGML Calendarize//EN
BEGIN:VEVENT
UID:calendarize-inklusive-arbeitsplaetze-finanzielle-foerderungen-fuer-arb
 eitgeber
DTSTAMP:20260421T110725Z
DTSTART:20230405T000000Z
DTEND:20230405T113000Z
SUMMARY:Inklusive Arbeitsplätze - Finanzielle Förderungen für Arbeitgeb
 er
DESCRIPTION:Inhalte: \nFür die Ausbildung\, Neueinstellung und Weiterbesc
 häftigung von Menschen mit Behinderung gibt es eine Vielzahl von Förderu
 ngsmöglichkeiten durch unterschiedliche Ansprechpartner wie zum Beispiel 
 das Inklusionsamt\, die Bundesagentur für Arbeit oder die verschiedenen R
 ehabilitationsträger. In dieser Veranstaltung erhalten Sie einen Überbli
 ck über die zahlreichen Förderungen und die entsprechenden Ansprechpartn
 er.\nThemen: \n 	Finanzielle Förderung bei Ausbildung 	Finanzielle Förde
 rung bei Neueinstellung 	Finanzielle Förderung im Arbeitsleben 	Ansprechp
 artner 	Klärung offener Fragen der Teilnehmenden \nZielgruppe: \nArbeitge
 ber*innen\, Personalverantwortliche\, Führungskräfte\, Ausbildungsperson
 al\, Inklusionsbeauftragte\nTeilnahme und Anmeldung: \nDie Teilnahme ist k
 ostenfrei. Bitte melden Sie sich per E-Mail (eaa-berlin@faw.de) oder telef
 onisch (030 – 53 63 76 50) an.\nAnsprechpartnerin bei Fragen: \nSabine P
 fennig Engel\, Leiterin Kommunikation EAA Berlin E-Mail sabine.pfennig-eng
 el@faw.de
X-ALT-DESC;FMTTYPE=text/html:<p><strong>Inhalte: </strong></p>\n<p>Für di
 e Ausbildung\, Neueinstellung und Weiterbeschäftigung von Menschen mit Be
 hinderung gibt es eine Vielzahl von Förderungsmöglichkeiten durch unters
 chiedliche Ansprechpartner wie zum Beispiel das Inklusionsamt\, die Bundes
 agentur für Arbeit oder die verschiedenen Rehabilitationsträger. In dies
 er Veranstaltung erhalten Sie einen Überblick über die zahlreichen Förd
 erungen und die entsprechenden Ansprechpartner.</p>\n<p><strong>Themen: </
 strong></p>\n<ul> 	<li>Finanzielle Förderung bei Ausbildung</li> 	<li>Fin
 anzielle Förderung bei Neueinstellung</li> 	<li>Finanzielle Förderung im
  Arbeitsleben</li> 	<li>Ansprechpartner</li> 	<li>Klärung offener Fragen 
 der Teilnehmenden</li> </ul>\n<p><strong>Zielgruppe: </strong></p>\n<p>Arb
 eitgeber*innen\, Personalverantwortliche\, Führungskräfte\, Ausbildungsp
 ersonal\, Inklusionsbeauftragte</p>\n<p><strong>Teilnahme und Anmeldung: <
 /strong></p>\n<p>Die Teilnahme ist kostenfrei. Bitte melden Sie sich per E
 -Mail (<a href="mailto:eaa-berlin@faw.de">eaa-berlin@faw.de</a>) oder tele
 fonisch (030 – 53 63 76 50) an.</p>\n<p><strong>Ansprechpartnerin bei Fr
 agen: </strong></p>\n<p>Sabine Pfennig Engel\, Leiterin Kommunikation EAA 
 Berlin<br /> E-Mail <a href="mailto:sabine.pfennig-engel@faw.de">sabine.pf
 ennig-engel@faw.de</a></p>
LOCATION:
END:VEVENT
END:VCALENDAR
