BEGIN:VCALENDAR
VERSION:2.0
PRODID:-//TYPO3/NONSGML Calendarize//EN
BEGIN:VEVENT
UID:calendarize-menschen-mit-psychischen-beeintraechtigungen-im-arbeitsleb
 en
DTSTAMP:20260421T123455Z
DTSTART:20251210T100000Z
DTEND:20251210T113000Z
SUMMARY:Menschen mit psychischen Beeinträchtigungen im Arbeitsleben
DESCRIPTION:Die Zahl der Krankheitstage von Arbeitnehmenden aufgrund psych
 ischer Erkrankungen nimmt stetig zu. Verschiedene Faktoren tragen dazu bei
 : der steigende Arbeitsdruck\, eine größere Sensibilisierung für das Th
 ema psychischer Belastungen sowie die noch immer bestehende Stigmatisierun
 g von Betroffenen. Diese Entwicklungen wirken sich nicht nur auf die betro
 ffenen Mitarbeiter*innen aus\, sondern stellen auch Kolleg*innen\, Führun
 gskräfte und Unternehmensstrukturen vor neue Herausforderungen.\nIn diese
 r Veranstaltung informiert Sie die Leitung des Integrationsfachdienstes N
 ord (IFD Nord) zu den Ursachen und Folgen psychischer Belastungen am Arbe
 itsplatz. Ziel ist es\, Möglichkeiten zum Abbau von Barrieren aufzuzeigen
  und Teams bei der Inklusion von psychisch belasteten Mitarbeiter*innen zu
  unterstützen. Darüber hinaus erfahren Sie\, wie  Mitarbeitende und Ar
 beitgebende von der Zusammenarbeit mit den Integrationsfachdiensten profit
 ieren können und welche Unterstützungsmöglichkeiten Ihnen dort geboten 
 werden.\nThemen \n 	Ursachen\, Erscheinungsformen und Folgen psychischer 
 Erkrankungen 	Unterstützungsangebote für Menschen mit psychischen Belast
 ungen und deren Arbeitgebende 	Praktische Tipps zum Abbau von Barrieren 	
 die Arbeitsweise der Integrationsfachdienste \nReferentinnen Dirk Plamböc
 k (Teamleitung Integrationsfachdienst Nord\, faw gGmbH)\nZielgruppe Arbeit
 geber*innen\, Führungskräfte\, Personalverantwortliche\, Inklusionsbeauf
 tragte\, Ausbildende\nTeilnahme und Anmeldung Die Veranstaltung wird onlin
 e per MS Teams durchgeführt. Die Teilnahme ist kostenfrei. Bitte nutzen 
 Sie die untenstehende Anmeldefunktion. \nHinweis zur Barrierefreiheit Wir
  möchten diese Veranstaltung möglichst barrierefrei gestalten. Wenn Sie 
 Unterstützungsbedarf haben\, geben Sie diesen bitte im Feld für Anmerkun
 gen im Anmeldeformular an oder kontaktieren Sie uns per E-Mail unter eaa-b
 erlin-veranstaltungen(at)faw.de. Wir setzen uns dann zeitnah mit Ihnen in 
 Verbindung.\nAnsprechpartnerin bei Fragen Sabine Pfennig Engel\, Leiterin 
 Kommunikation EAA Berlin E-Mail sabine.pfennig-engel(at)faw.de
X-ALT-DESC;FMTTYPE=text/html:<div><p>Die Zahl der Krankheitstage von Arbei
 tnehmenden aufgrund psychischer Erkrankungen nimmt stetig zu. Verschiedene
  Faktoren tragen dazu bei: der steigende Arbeitsdruck\, eine größere Sen
 sibilisierung für das Thema psychischer Belastungen sowie die noch immer 
 bestehende Stigmatisierung von Betroffenen. Diese Entwicklungen wirken sic
 h nicht nur auf die betroffenen Mitarbeiter*innen aus\, sondern stellen au
 ch Kolleg*innen\, Führungskräfte und Unternehmensstrukturen vor neue Her
 ausforderungen.</p>\n<p>In dieser Veranstaltung informiert Sie die Leitung
  des&nbsp\;<strong data-end="644" data-start="632">Integrationsfachdienste
 s No</strong><strong data-end="644" data-start="632">rd</strong><strong>&n
 bsp\;(IFD Nord)</strong> zu den Ursachen und Folgen psychischer Belastunge
 n am Arbeitsplatz. Ziel ist es\, Möglichkeiten zum Abbau von Barrieren au
 fzuzeigen und Teams bei der Inklusion von psychisch belasteten Mitarbeiter
 *innen zu unterstützen.&nbsp\;Darüber hinaus erfahren Sie\, wie&nbsp\; M
 itarbeitende und Arbeitgebende von der Zusammenarbeit mit den Integrations
 fachdiensten profitieren können und welche Unterstützungsmöglichkeiten 
 Ihnen dort geboten werden.</p></div>\n<p><strong>Themen&nbsp\;</strong></p
 >\n<ul> 	<li>Ursachen\, Erscheinungsformen und Folgen psychischer Erkranku
 ngen</li> 	<li>Unterstützungsangebote für Menschen mit psychischen Belas
 tungen&nbsp\;und deren Arbeitgebende</li> 	<li>Praktische Tipps zum Abbau 
 von Barrieren</li> 	<li>die Arbeitsweise der Integrationsfachdienste</li> 
 </ul>\n<p><strong>Referentinnen</strong><br /> Dirk Plamböck (Teamleitung
  Integrationsfachdienst Nord\, faw gGmbH)</p>\n<p><strong>Zielgruppe</stro
 ng><br /> Arbeitgeber*innen\, Führungskräfte\, Personalverantwortliche\,
  Inklusionsbeauftragte\, Ausbildende</p>\n<div><p><strong>Teilnahme und An
 meldung</strong><br /> Die Veranstaltung wird online per MS Teams durchgef
 ührt.<br /> Die Teilnahme ist kostenfrei.&nbsp\;<u>Bitte nutzen Sie die u
 ntenstehende Anmeldefunktion.&nbsp\;</u></p></div>\n<p><strong>Hinweis zur
  Barrierefreiheit</strong><br /> Wir möchten diese Veranstaltung möglich
 st barrierefrei gestalten. Wenn Sie Unterstützungsbedarf haben\, geben Si
 e diesen bitte im Feld für Anmerkungen im Anmeldeformular an oder kontakt
 ieren Sie uns per E-Mail unter eaa-berlin-veranstaltungen(at)faw.de. Wir s
 etzen uns dann zeitnah mit Ihnen in Verbindung.</p>\n<p><strong>Ansprechpa
 rtnerin bei Fragen</strong><br /> Sabine Pfennig Engel\, Leiterin Kommunik
 ation EAA Berlin<br /> E-Mail sabine.pfennig-engel(at)faw.de</p>
LOCATION:
END:VEVENT
END:VCALENDAR
