BEGIN:VCALENDAR
VERSION:2.0
PRODID:-//TYPO3/NONSGML Calendarize//EN
BEGIN:VEVENT
UID:calendarize-talk-fuer-arbeitgeberinnen-4
DTSTAMP:20260421T122721Z
DTSTART:20251105T150000Z
DTEND:20251105T170000Z
SUMMARY:TALK für Arbeitgeber*innen
DESCRIPTION:Bei diesem letzten Termin in diesem Jahr werden wir das Thema 
 Werkstatt für Menschen mit Behinderung (WfbM)\, Außenarbeitsplätze in U
 nternehmen\, in den Mittelpunkt stellen. Beschäftigte aus einer WfbM soll
 en sich im Betrieb auf dem allgmeinen Arbeitsmarkt ausprobieren. Wie kann 
 es dazu kommen\, wie funktioniert die Betreuung vor Ort im Unternehmen? Wi
 e sollte die Einsatzstelle gestaltet werden? Wie muss sich ein Arbeitgeber
  vorbereiten? Welche Kosten entstehen?\nReferentin: Uta Merker vom LWerk\n
 Sie haben Interesse? Schreiben Sie uns einfach eine kurze E-Mail an sabine
 .pfennig-engel@faw.de unter dem Stichwort „Talk für Arbeitgeber*innen“
  oder melden sich telefonisch an. Wir freuen uns auf Ihre Teilnahme!\nAnsp
 rechpartnerin: Sabine Pfennig-Engel\, Tel. 030 536 376 52\nOrt Präsenzter
 min\nEAA Berlin | Bundesallee 39-40a | 10117 Berlin | U-Bahnhof Berliner S
 traße
X-ALT-DESC;FMTTYPE=text/html:<p>Bei diesem letzten Termin in diesem Jahr w
 erden wir das Thema Werkstatt für Menschen mit Behinderung (WfbM)\, <stro
 ng>Außenarbeitsplätze in Unternehmen</strong>\, in den Mittelpunkt stell
 en. Beschäftigte aus einer WfbM sollen sich im Betrieb auf dem allgmeinen
  Arbeitsmarkt ausprobieren. Wie kann es dazu kommen\, wie funktioniert die
  Betreuung vor Ort im Unternehmen? Wie sollte die Einsatzstelle gestaltet 
 werden? Wie muss sich ein Arbeitgeber vorbereiten? Welche Kosten entstehen
 ?</p>\n<p><strong>Referentin: Uta Merker vom LWerk</strong></p>\n<p>Sie ha
 ben Interesse? Schreiben Sie uns einfach eine kurze E-Mail an <strong>sabi
 ne.pfennig-engel@faw.de&nbsp\;</strong>unter dem Stichwort <strong>„Talk
  für Arbeitgeber*innen“</strong> oder melden sich telefonisch an. Wir f
 reuen uns auf Ihre Teilnahme!</p>\n<p>Ansprechpartnerin: Sabine Pfennig-En
 gel\, Tel. 030 536 376 52</p>\n<p><strong>Ort </strong>Präsenztermin</p>\
 n<p>EAA Berlin | Bundesallee 39-40a | 10117 Berlin | U-Bahnhof Berliner St
 raße</p>
LOCATION:
END:VEVENT
END:VCALENDAR
